BEGIN:VCALENDAR
PRODID:-//eluceo/ical//2.0/EN
VERSION:2.0
CALSCALE:GREGORIAN
BEGIN:VEVENT
UID:690b9758df0ae3dae2e2784a5255c3b4
DTSTAMP:20260420T014643Z
SUMMARY:Norges viktigste bok: Katekismen gjennom 500 år
DESCRIPTION:
URL:https://www.nb.no/hva-skjer/norges-viktigste-bok-katekismen-gjennom-500
 -ar/
DTSTART;TZID=Europe/Oslo:20220920T123000
DTEND;TZID=Europe/Oslo:20220920T150000
LOCATION:Henrik Ibsens gate 110\, 0254 Oslo
END:VEVENT
END:VCALENDAR
