BEGIN:VCALENDAR
PRODID:-//eluceo/ical//2.0/EN
VERSION:2.0
CALSCALE:GREGORIAN
BEGIN:VEVENT
UID:7944d8a37f9069ec7570e3e87c350c92
DTSTAMP:20260420T000411Z
SUMMARY:Lansering: Skeiv lokalhistorie
DESCRIPTION:
URL:https://www.nb.no/hva-skjer/lansering-skeiv-lokalhistorie/
DTSTART;TZID=Europe/Oslo:20220916T120000
DTEND;TZID=Europe/Oslo:20220916T153000
LOCATION:Henrik Ibsens gate 110\, 0254 Oslo
END:VEVENT
END:VCALENDAR
