BEGIN:VCALENDAR
PRODID:-//eluceo/ical//2.0/EN
VERSION:2.0
CALSCALE:GREGORIAN
BEGIN:VEVENT
UID:ce1a76cf5a102c720d4545d3b307c1fc
DTSTAMP:20260424T043519Z
SUMMARY:Middelalder på Lokalhistoriewiki
DESCRIPTION:
URL:https://www.nb.no/hva-skjer/middelalder-pa-lokalhistoriewiki/
DTSTART;TZID=Europe/Oslo:20220216T140000
DTEND;TZID=Europe/Oslo:20220216T144500
LOCATION:Henrik Ibsens gate 110\, 0254 Oslo
END:VEVENT
END:VCALENDAR
