BEGIN:VCALENDAR
PRODID:-//eluceo/ical//2.0/EN
VERSION:2.0
CALSCALE:GREGORIAN
BEGIN:VEVENT
UID:6ff5308db3dc675809fb3f4581c42f1a
DTSTAMP:20260419T142107Z
SUMMARY:Norsk typografi 1800-1900 – kunstferdig og utskjelt
DESCRIPTION:
URL:https://www.nb.no/hva-skjer/norsk-typografi-1800-1900-kunstferdig-og-ut
 skjelt/
DTSTART;TZID=Europe/Oslo:20211102T130000
DTEND;TZID=Europe/Oslo:20211102T150000
LOCATION:Henrik Ibsens gate 110\, 0254 Oslo
END:VEVENT
END:VCALENDAR
