BEGIN:VCALENDAR
PRODID:-//eluceo/ical//2.0/EN
VERSION:2.0
CALSCALE:GREGORIAN
BEGIN:VEVENT
UID:d501fc63cab5e2ee2015c168e738f6b9
DTSTAMP:20260421T163256Z
SUMMARY:Agathe Backer Grøndahl
DESCRIPTION:
URL:https://www.nb.no/hva-skjer/agathe-backer-grondahl-2/
DTSTART;TZID=Europe/Oslo:20210911T140000
DTEND;TZID=Europe/Oslo:20210911T150000
LOCATION:Henrik Ibsens gate 110\, 0254 Oslo
END:VEVENT
END:VCALENDAR
