BEGIN:VCALENDAR
PRODID:-//eluceo/ical//2.0/EN
VERSION:2.0
CALSCALE:GREGORIAN
BEGIN:VEVENT
UID:5190b43cf1a0a8ffef4918021b25894d
DTSTAMP:20260423T070503Z
SUMMARY:Konstruksjonen av Norden: Natursyn
DESCRIPTION:
URL:https://www.nb.no/hva-skjer/konstruksjonen-av-norden-natursyn/
DTSTART;TZID=Europe/Oslo:20210927T190000
DTEND;TZID=Europe/Oslo:20210927T200000
LOCATION:Henrik Ibsens gate 110\, 0254  Oslo
END:VEVENT
END:VCALENDAR
