BEGIN:VCALENDAR
PRODID:-//eluceo/ical//2.0/EN
VERSION:2.0
CALSCALE:GREGORIAN
BEGIN:VEVENT
UID:3db78ca51ad1e08a7f048b89a65aff85
DTSTAMP:20260423T051257Z
SUMMARY:Norske oljeeventyr
DESCRIPTION:
URL:https://www.nb.no/hva-skjer/norske-oljeeventyr/
DTSTART;TZID=Europe/Oslo:20210412T180000
DTEND;TZID=Europe/Oslo:20210412T200000
END:VEVENT
END:VCALENDAR
