BEGIN:VCALENDAR
PRODID:-//eluceo/ical//2.0/EN
VERSION:2.0
CALSCALE:GREGORIAN
BEGIN:VEVENT
UID:42f8bb35a3cf8b6f6c5c276ef9762180
DTSTAMP:20260420T033644Z
SUMMARY:Høyre du\, mann!
DESCRIPTION:
URL:https://www.nb.no/hva-skjer/hoyre-du-mann/
DTSTART;TZID=Europe/Oslo:20210316T190000
DTEND;TZID=Europe/Oslo:20210316T210000
END:VEVENT
END:VCALENDAR
