BEGIN:VCALENDAR
PRODID:-//eluceo/ical//2.0/EN
VERSION:2.0
CALSCALE:GREGORIAN
BEGIN:VEVENT
UID:f49ad8b8a7d0aac9f4569f7d3f06586e
DTSTAMP:20260425T202059Z
SUMMARY:Norsk humor: Fleksnes
DESCRIPTION:
URL:https://www.nb.no/hva-skjer/norsk-humor-fleksnes/
DTSTART;TZID=Europe/Oslo:20201210T190000
DTEND;TZID=Europe/Oslo:20201210T200000
LOCATION:Henrik Ibsens gate 110\, 0254  Oslo
END:VEVENT
END:VCALENDAR
