BEGIN:VCALENDAR
PRODID:-//eluceo/ical//2.0/EN
VERSION:2.0
CALSCALE:GREGORIAN
BEGIN:VEVENT
UID:0b247d2d251eaaf381d1763ffbb46761
DTSTAMP:20260421T032839Z
SUMMARY:Shakespeares tragedier
DESCRIPTION:
URL:https://www.nb.no/hva-skjer/shakespeares-tragedier/
DTSTART;TZID=Europe/Oslo:20200512T190000
DTEND;TZID=Europe/Oslo:20200512T200000
END:VEVENT
END:VCALENDAR
