BEGIN:VCALENDAR
PRODID:-//eluceo/ical//2.0/EN
VERSION:2.0
CALSCALE:GREGORIAN
BEGIN:VEVENT
UID:4218c0a3d6abf1f0c8d0d86d8127133f
DTSTAMP:20260423T131906Z
SUMMARY:Når krisa rammer. Foredrag ved Gunhild J. Ecklund
DESCRIPTION:
URL:https://www.nb.no/hva-skjer/nar-krisa-rammer-foredrag-ved-gunhild-j-eck
 lund/
DTSTART;TZID=Europe/Oslo:20200406T190000
DTEND;TZID=Europe/Oslo:20200406T200000
END:VEVENT
END:VCALENDAR
