BEGIN:VCALENDAR
PRODID:-//eluceo/ical//2.0/EN
VERSION:2.0
CALSCALE:GREGORIAN
BEGIN:VEVENT
UID:85fc5b5d8ce2997398a8a71ae11fb2e8
DTSTAMP:20260419T151331Z
SUMMARY:AVLYST. Hendinga: Alta-aksjonane
DESCRIPTION:
URL:https://www.nb.no/hva-skjer/hendinga-alta-aksjonane/
DTSTART;TZID=Europe/Oslo:20200316T190000
DTEND;TZID=Europe/Oslo:20200316T200000
LOCATION:Henrik Ibsens gate 110\, 0254  Oslo
END:VEVENT
END:VCALENDAR
