BEGIN:VCALENDAR
PRODID:-//eluceo/ical//2.0/EN
VERSION:2.0
CALSCALE:GREGORIAN
BEGIN:VEVENT
UID:cedb475b1c0e3f71173a7500c2eb9a1d
DTSTAMP:20260425T205328Z
SUMMARY:Levande brev: Kamp
DESCRIPTION:
URL:https://www.nb.no/hva-skjer/levande-brev-kamp/
DTSTART;TZID=Europe/Oslo:20200220T190000
DTEND;TZID=Europe/Oslo:20200220T203000
LOCATION:Henrik Ibsens gate 110\, 0254  Oslo
END:VEVENT
END:VCALENDAR
