BEGIN:VCALENDAR
PRODID:-//eluceo/ical//2.0/EN
VERSION:2.0
CALSCALE:GREGORIAN
BEGIN:VEVENT
UID:8f34c07f4e870476ddba301de875b4c1
DTSTAMP:20260422T101852Z
SUMMARY:Den tøylesløse byen
DESCRIPTION:
URL:https://www.nb.no/hva-skjer/den-toyleslose-byen/
DTSTART;TZID=Europe/Oslo:20200213T120000
DTEND;TZID=Europe/Oslo:20200213T160000
LOCATION:Henrik Ibsens gate 110\, 0254 Oslo
END:VEVENT
END:VCALENDAR
