BEGIN:VCALENDAR
PRODID:-//eluceo/ical//2.0/EN
VERSION:2.0
CALSCALE:GREGORIAN
BEGIN:VEVENT
UID:a7afc450bbd870e46e7faa7c86b6daad
DTSTAMP:20260425T220438Z
SUMMARY:Er verden på vei mot stupet? Terje Tvedt om verdenshistoriens lang
 e linjer
DESCRIPTION:
URL:https://www.nb.no/hva-skjer/er-verden-pa-vei-mot-stupet-terje-tvedt-om-
 verdenshistoriens-lange-linjer/
DTSTART;TZID=Europe/Oslo:20191204T190000
DTEND;TZID=Europe/Oslo:20191204T203000
LOCATION:Henrik Ibsens gate 110\, 0254  Oslo
END:VEVENT
END:VCALENDAR
