BEGIN:VCALENDAR
PRODID:-//eluceo/ical//2.0/EN
VERSION:2.0
CALSCALE:GREGORIAN
BEGIN:VEVENT
UID:51394743d48b77c572d7dbe7e4d9a052
DTSTAMP:20260425T220340Z
SUMMARY:USAs århundre og Kinas ambisjoner. Terje Tvedt om verdenshistorien
 s lange linjer
DESCRIPTION:
URL:https://www.nb.no/hva-skjer/usas-arhundre-terje-tvedt-om-verdenshistori
 ens-lange-linjer/
DTSTART;TZID=Europe/Oslo:20191127T190000
DTEND;TZID=Europe/Oslo:20191127T203000
END:VEVENT
END:VCALENDAR
