BEGIN:VCALENDAR
PRODID:-//eluceo/ical//2.0/EN
VERSION:2.0
CALSCALE:GREGORIAN
BEGIN:VEVENT
UID:eb4019edbba32aae61aba8924bfff61f
DTSTAMP:20260425T232542Z
SUMMARY:Den moderne verdens framvekst. Terje Tvedt om verdenshistoriens lan
 ge linjer
DESCRIPTION:
URL:https://www.nb.no/hva-skjer/den-moderne-verdens-framvekst-terje-tvedt-o
 m-verdenshistoriens-lange-linjer/
DTSTART;TZID=Europe/Oslo:20191113T190000
DTEND;TZID=Europe/Oslo:20191113T203000
LOCATION:Henrik Ibsens gate 110\, 0254  Oslo
END:VEVENT
END:VCALENDAR
