BEGIN:VCALENDAR
PRODID:-//eluceo/ical//2.0/EN
VERSION:2.0
CALSCALE:GREGORIAN
BEGIN:VEVENT
UID:bf2286e64acdc53e0000e882b27bef65
DTSTAMP:20260421T040214Z
SUMMARY:Kompleksitet og komprimering. Bilder som kilder
DESCRIPTION:
URL:https://www.nb.no/hva-skjer/kompleksitet-og-komprimering-bilder-som-kil
 der/
DTSTART;TZID=Europe/Oslo:20191204T140000
DTEND;TZID=Europe/Oslo:20191204T160000
LOCATION:Henrik Ibsens gate 110\, 0254 Oslo
END:VEVENT
END:VCALENDAR
