BEGIN:VCALENDAR
PRODID:-//eluceo/ical//2.0/EN
VERSION:2.0
CALSCALE:GREGORIAN
BEGIN:VEVENT
UID:03f18792b850738210bec05ce539492e
DTSTAMP:20260422T045115Z
SUMMARY:Norsk litteraturhistorie i fem hundre år\, og fem hundre til
DESCRIPTION:
URL:https://www.nb.no/hva-skjer/fem-hundre-ar-og-fem-hundre-til/
DTSTART;TZID=Europe/Oslo:20190921T180000
DTEND;TZID=Europe/Oslo:20190921T190000
LOCATION:Henrik Ibsens gate 110\, 0254  Oslo
END:VEVENT
END:VCALENDAR
