BEGIN:VCALENDAR
PRODID:-//eluceo/ical//2.0/EN
VERSION:2.0
CALSCALE:GREGORIAN
BEGIN:VEVENT
UID:cfd2992531a6d7bcc9a9601849f4d806
DTSTAMP:20260420T085222Z
SUMMARY:Litterære verdensborgere. Lansering av bokhistorisk antologi og bi
 bliografi
DESCRIPTION:
URL:https://www.nb.no/hva-skjer/litteraere-verdensborgere-lansering-av-bokh
 istorisk-antologi-og-bibliografi/
DTSTART;TZID=Europe/Oslo:20190919T123000
DTEND;TZID=Europe/Oslo:20190919T150000
LOCATION:Henrik Ibsens gate 110\, 0254 Oslo
END:VEVENT
END:VCALENDAR
