BEGIN:VCALENDAR
PRODID:-//eluceo/ical//2.0/EN
VERSION:2.0
CALSCALE:GREGORIAN
BEGIN:VEVENT
UID:2d9a89a3e7715b58b9ccd4dec3b003fb
DTSTAMP:20260420T090615Z
SUMMARY:Samisk minne: radiokino og arkivsamtale
DESCRIPTION:
URL:https://www.nb.no/hva-skjer/samisk-minne-radiokino-og-arkivsamtale/
DTSTART;TZID=Europe/Oslo:20191010T180000
DTEND;TZID=Europe/Oslo:20191010T200000
LOCATION:Henrik Ibsens gate 110\, 0254 Oslo
END:VEVENT
END:VCALENDAR
