BEGIN:VCALENDAR
PRODID:-//eluceo/ical//2.0/EN
VERSION:2.0
CALSCALE:GREGORIAN
BEGIN:VEVENT
UID:4f44f049f5462a69394dfef6ca54df01
DTSTAMP:20260423T185532Z
SUMMARY:Game of Thrones og middelalderen. Hva kan en fantasyserie fortelle
  om den faktiske historien?
DESCRIPTION:
URL:https://www.nb.no/hva-skjer/game-of-thrones-og-middelalderen-hva-kan-en
 -fantasyserie-fortelle-om-den-faktiske-historien/
DTSTART;TZID=Europe/Oslo:20190521T190000
DTEND;TZID=Europe/Oslo:20190521T203000
LOCATION:Henrik Ibsens gate 110\, 0254 Oslo
END:VEVENT
END:VCALENDAR
