BEGIN:VCALENDAR
PRODID:-//eluceo/ical//2.0/EN
VERSION:2.0
CALSCALE:GREGORIAN
BEGIN:VEVENT
UID:8aa6ccbe7d6ca5006ae37e3a4ecd4d7d
DTSTAMP:20260425T164419Z
SUMMARY:Dyr\, natur og byar i utvikling. Fagseminar med føredrag\, miniuts
 tilling og samtale
DESCRIPTION:
URL:https://www.nb.no/hva-skjer/dyr-natur-og-byar-i-utvikling-fagseminar-me
 d-to-foredrag-miniutstilling-og-samtale/
DTSTART;TZID=Europe/Oslo:20190514T140000
DTEND;TZID=Europe/Oslo:20190514T160000
LOCATION:Henrik Ibsens gate 110\, 0254 Oslo
END:VEVENT
END:VCALENDAR
