BEGIN:VCALENDAR
PRODID:-//eluceo/ical//2.0/EN
VERSION:2.0
CALSCALE:GREGORIAN
BEGIN:VEVENT
UID:11dd183814517b7937e864512fcfad58
DTSTAMP:20260423T001808Z
SUMMARY:Slik jeg husker det. Kim Friele i samtale med Ida Berntsen
DESCRIPTION:
URL:https://www.nb.no/hva-skjer/slik-jeg-husker-det-kim-friele-i-samtale-me
 d-ida-berntsen/
DTSTART;TZID=Europe/Oslo:20190513T190000
DTEND;TZID=Europe/Oslo:20190513T200000
LOCATION:Henrik Ibsens gate 110\, 0254 Oslo
END:VEVENT
END:VCALENDAR
