BEGIN:VCALENDAR
PRODID:-//eluceo/ical//2.0/EN
VERSION:2.0
CALSCALE:GREGORIAN
BEGIN:VEVENT
UID:45d4565ce47d6c511aa37c324fbdb7cc
DTSTAMP:20260421T170316Z
SUMMARY:Med litteraturen som døråpner – veien videre for språkkaféer
DESCRIPTION:
URL:https://www.nb.no/hva-skjer/med-litteraturen-som-dorapner-veien-videre-
 for-sprakkafeer-flerkulturelt-bibliotekmote/
DTSTART;TZID=Europe/Oslo:20190425T090000
DTEND;TZID=Europe/Oslo:20190425T160000
LOCATION:Henrik Ibsens gate 110\, 0254 Oslo
END:VEVENT
END:VCALENDAR
