BEGIN:VCALENDAR
PRODID:-//eluceo/ical//2.0/EN
VERSION:2.0
CALSCALE:GREGORIAN
BEGIN:VEVENT
UID:2e53147b62dcc0c09dd5415e55ad6cee
DTSTAMP:20260420T063623Z
SUMMARY:Den norske sjukdomen. Anne Kveim Lie om radesjuken
DESCRIPTION:
URL:https://www.nb.no/hva-skjer/den-norske-sjukdomen-anne-kveim-lie-om-rade
 sjuken/
DTSTART;TZID=Europe/Oslo:20190319T190000
DTEND;TZID=Europe/Oslo:20190319T200000
LOCATION:Henrik Ibsens gate 110\, 0254 Oslo
END:VEVENT
END:VCALENDAR
