BEGIN:VCALENDAR
PRODID:-//eluceo/ical//2.0/EN
VERSION:2.0
CALSCALE:GREGORIAN
BEGIN:VEVENT
UID:8b27a4d2249989b3558f277ad587d4bb
DTSTAMP:20260420T210014Z
SUMMARY:Charleston i Grukkedalen. Musikkglede og rasisme
DESCRIPTION:
URL:https://www.nb.no/hva-skjer/charleston-i-grukkedalen-musikkglede-og-ras
 isme-afroamerikanske-artister-pa-norske-scener/
DTSTART;TZID=Europe/Oslo:20190311T190000
DTEND;TZID=Europe/Oslo:20190311T200000
LOCATION:Henrik Ibsens gate 110\, 0254 Oslo
END:VEVENT
END:VCALENDAR
