BEGIN:VCALENDAR
PRODID:-//eluceo/ical//2.0/EN
VERSION:2.0
CALSCALE:GREGORIAN
BEGIN:VEVENT
UID:e6dfbba54f859a44a68e986b3ceb1990
DTSTAMP:20260420T131907Z
SUMMARY:Latin i Norge før 1537. Om latin\, norrønt og bøker i middelald
 erens Norge
DESCRIPTION:
URL:https://www.nb.no/hva-skjer/latin-i-norge-for-1537-om-latin-norront-og-
 boker-i-middelalderens-norge/
DTSTART;TZID=Europe/Oslo:20190221T130000
DTEND;TZID=Europe/Oslo:20190221T160000
LOCATION:Henrik Ibsens gate 110\, 0254 Oslo
END:VEVENT
END:VCALENDAR
