BEGIN:VCALENDAR
PRODID:-//eluceo/ical//2.0/EN
VERSION:2.0
CALSCALE:GREGORIAN
BEGIN:VEVENT
UID:636149b0024cb75f46455b3939401ff5
DTSTAMP:20260422T163627Z
SUMMARY:Komleklubb!
DESCRIPTION:
URL:https://www.nb.no/hva-skjer/komleklubb/
DTSTART;TZID=Europe/Oslo:20260129T170000
DTEND;TZID=Europe/Oslo:20260129T190000
END:VEVENT
END:VCALENDAR
