BEGIN:VCALENDAR
PRODID:-//eluceo/ical//2.0/EN
VERSION:2.0
CALSCALE:GREGORIAN
BEGIN:VEVENT
UID:3aee0e3c85842c82e5f78fbe9c294e4f
DTSTAMP:20260419T191608Z
SUMMARY:Magnus Lagabøtes landslov. Seminar og boklansering tekstkritisk u
 tgåve
DESCRIPTION:
URL:https://www.nb.no/hva-skjer/magnus-lagabotes-landslov-seminar-og-boklan
 sering/
DTSTART;TZID=Europe/Oslo:20181218T130000
DTEND;TZID=Europe/Oslo:20181218T153000
LOCATION:Henrik Ibsens gate 110\, 0254 Oslo
END:VEVENT
END:VCALENDAR
