BEGIN:VCALENDAR
PRODID:-//eluceo/ical//2.0/EN
VERSION:2.0
CALSCALE:GREGORIAN
BEGIN:VEVENT
UID:b9ea21a2fa3592363574c58e13dd2dbc
DTSTAMP:20260422T173004Z
SUMMARY:Kunstig intelligens i diagnose og behandling av sykdom
DESCRIPTION:
URL:https://www.nb.no/hva-skjer/kunstig-intelligens-i-diagnose-og-behandlin
 g-av-sykdom/
DTSTART;TZID=Europe/Oslo:20181016T180000
DTEND;TZID=Europe/Oslo:20181016T203000
LOCATION:Henrik Ibsens gate 110\, 0254 Oslo
END:VEVENT
END:VCALENDAR
