BEGIN:VCALENDAR
PRODID:-//eluceo/ical//2.0/EN
VERSION:2.0
CALSCALE:GREGORIAN
BEGIN:VEVENT
UID:6cbbe7cc8efa353e1a64baf9a40f397b
DTSTAMP:20260419T131252Z
SUMMARY:Litterært laboratorium: Ibsens samtidsdramaer 1877–1899. John Ga
 briel Borkman
DESCRIPTION:
URL:https://www.nb.no/hva-skjer/litteraert-laboratorium-ibsens-samtidsdrama
 er-1877-1899-john-gabriel-borkman/
DTSTART;TZID=Europe/Oslo:20251022T130000
DTEND;TZID=Europe/Oslo:20251022T150000
LOCATION:Henrik Ibsens gate 110\, 0254  Oslo
END:VEVENT
END:VCALENDAR
