BEGIN:VCALENDAR
PRODID:-//eluceo/ical//2.0/EN
VERSION:2.0
CALSCALE:GREGORIAN
BEGIN:VEVENT
UID:d8615803a254403c0fb83099523f9d42
DTSTAMP:20260422T163652Z
SUMMARY:Komleklubb
DESCRIPTION:
URL:https://www.nb.no/hva-skjer/komleklubb-v-credo-3/
DTSTART;TZID=Europe/Oslo:20251218T170000
DTEND;TZID=Europe/Oslo:20251218T190000
END:VEVENT
END:VCALENDAR
