BEGIN:VCALENDAR
PRODID:-//eluceo/ical//2.0/EN
VERSION:2.0
CALSCALE:GREGORIAN
BEGIN:VEVENT
UID:eaf036f4bd880381f4e21a26c758672a
DTSTAMP:20260422T175915Z
SUMMARY:Komleklubb i Nasjonalbibliotekbaren v/Credo
DESCRIPTION:
URL:https://www.nb.no/hva-skjer/komleklubb-i-nasjonalbibliotekbaren/
DTSTART;TZID=Europe/Oslo:20250522T160000
DTEND;TZID=Europe/Oslo:20250522T210000
END:VEVENT
END:VCALENDAR
