BEGIN:VCALENDAR
PRODID:-//eluceo/ical//2.0/EN
VERSION:2.0
CALSCALE:GREGORIAN
BEGIN:VEVENT
UID:19bea2b61d9b62d345986d4d0989b1e8
DTSTAMP:20260422T165828Z
SUMMARY:Kveldsskolen: Drømmen om evig liv ved prof. Annelin Eriksen 
DESCRIPTION:
URL:https://www.nb.no/hva-skjer/kveldsskolen-drommen-om-evig-liv-ved-prof-a
 nnelin-eriksen/
DTSTART;TZID=Europe/Oslo:20250521T180000
DTEND;TZID=Europe/Oslo:20250521T190000
LOCATION:Henrik Ibsens gate 110\, 0254  Oslo
END:VEVENT
END:VCALENDAR
