BEGIN:VCALENDAR
PRODID:-//eluceo/ical//2.0/EN
VERSION:2.0
CALSCALE:GREGORIAN
BEGIN:VEVENT
UID:5f86ed28134df24c2026ac46dc2abbce
DTSTAMP:20260422T112217Z
SUMMARY:Medier\, maskiner og materialitet: Maskiner
DESCRIPTION:
URL:https://www.nb.no/hva-skjer/medier-maskiner-og-materialitet-maskiner/
DTSTART;TZID=Europe/Oslo:20250401T120000
DTEND;TZID=Europe/Oslo:20250401T153000
LOCATION:Henrik Ibsens gate 110\, 0254 Oslo
END:VEVENT
END:VCALENDAR
