BEGIN:VCALENDAR
PRODID:-//eluceo/ical//2.0/EN
VERSION:2.0
CALSCALE:GREGORIAN
BEGIN:VEVENT
UID:b44fa5f96e819375e7714fdc4b2c7a6c
DTSTAMP:20260419T151328Z
SUMMARY:Litterært laboratorium: Ibsens samtidsdramaer 1877–1899. Vildand
 en
DESCRIPTION:
URL:https://www.nb.no/hva-skjer/litteraert-laboratorium-ibsens-samtidsdrama
 er-1877-1899-vildanden/
DTSTART;TZID=Europe/Oslo:20241023T130000
DTEND;TZID=Europe/Oslo:20241023T150000
LOCATION:Henrik Ibsens gate 110\, 0254  Oslo
END:VEVENT
END:VCALENDAR
