BEGIN:VCALENDAR
PRODID:-//eluceo/ical//2.0/EN
VERSION:2.0
CALSCALE:GREGORIAN
BEGIN:VEVENT
UID:aa78543c8a50603fb0cda3dab27ef39c
DTSTAMP:20260421T015237Z
SUMMARY:Filmvisning og panelsamtale: Kristin Lavransdatter (1995)
DESCRIPTION:Liv Ullmanns store kjærlighetsfilm\, basert på romanen Kranse
 n av Sigrid Undset\, er endelig restaurert og gis nå ut på nytt av Nasjo
 nalbiblioteket.   
URL:https://www.nb.no/hva-skjer/filmvisning-og-panelsamtale-kristin-lavrans
 datter-1995/
DTSTART;TZID=Europe/Oslo:20240907T110000
DTEND;TZID=Europe/Oslo:20240907T160000
LOCATION:Henrik Ibsens gate 110\, 0254  Oslo
END:VEVENT
END:VCALENDAR
