BEGIN:VCALENDAR
PRODID:-//eluceo/ical//2.0/EN
VERSION:2.0
CALSCALE:GREGORIAN
BEGIN:VEVENT
UID:453fd67d7a34c0f594c48e24789adb28
DTSTAMP:20260419T152218Z
SUMMARY:Tida i historia. Føredrag ved Helge Jordheim
DESCRIPTION:
URL:https://www.nb.no/hva-skjer/tida-i-historia-foredrag-ved-helge-jordheim
 /
DTSTART;TZID=Europe/Oslo:20171125T150000
DTEND;TZID=Europe/Oslo:20171125T160000
LOCATION:Henrik Ibsens gate 110\, 0254 Oslo
END:VEVENT
END:VCALENDAR
