BEGIN:VCALENDAR
PRODID:-//eluceo/ical//2.0/EN
VERSION:2.0
CALSCALE:GREGORIAN
BEGIN:VEVENT
UID:0a60c93e6238ab52a8b6c1c76e4d4a30
DTSTAMP:20260425T164243Z
SUMMARY:Performative Memorials
DESCRIPTION:
URL:https://www.nb.no/hva-skjer/performative-memorials/
DTSTART;TZID=Europe/Oslo:20231110T090000
DTEND;TZID=Europe/Oslo:20231110T130000
LOCATION:Henrik Ibsens gate 110\, 0254 Oslo
END:VEVENT
END:VCALENDAR
