BEGIN:VCALENDAR
PRODID:-//eluceo/ical//2.0/EN
VERSION:2.0
CALSCALE:GREGORIAN
BEGIN:VEVENT
UID:83bc5e0d7394e0e3ec299b89e64dbb6d
DTSTAMP:20260420T202822Z
SUMMARY:Tanker som rir natten – seminar om norsk svartmetall 
DESCRIPTION:
URL:https://www.nb.no/hva-skjer/tanker-som-rir-natten-seminar-om-norsk-svar
 tmetall/
DTSTART;TZID=Europe/Oslo:20230913T120000
DTEND;TZID=Europe/Oslo:20230913T151500
LOCATION:Henrik Ibsens gate 110\, 0254 Oslo
END:VEVENT
END:VCALENDAR
