BEGIN:VCALENDAR
PRODID:-//eluceo/ical//2.0/EN
VERSION:2.0
CALSCALE:GREGORIAN
BEGIN:VEVENT
UID:f8eddf992ef4a02c8f7b3d999fd09d0b
DTSTAMP:20260421T054337Z
SUMMARY:Norske filmskatter: Salmer fra kjøkkenet
DESCRIPTION:
URL:https://www.nb.no/hva-skjer/norske-filmskatter-salmer-fra-kjokkenet/
DTSTART;TZID=Europe/Oslo:20230525T183000
DTEND;TZID=Europe/Oslo:20230525T210000
LOCATION:Henrik Ibsens gate 110\, 0254  Oslo
END:VEVENT
END:VCALENDAR
